BEGIN:VCALENDAR
VERSION:2.0
PRODID:-//Geonline
CALSCALE:GREGORIAN
METHOD:PUBLISH
X-WR-CALNAME:Geonline
X-ORIGINAL-URL:https://geonline.it/prodotto/valutazione-delle-aree-edificabili/
X-WR-CALDESC:Valutazione delle aree edificabili
BEGIN:VEVENT
DTSTART:20241213T090000
DTEND:20241213T110000
SUMMARY:Valutazione delle aree edificabili
DESCRIPTION:<h2><a href="https://geonline.it/wp-content/uploads/2024/11/Locandina-6.pdf">Locandina</a></h2>
<h2><a href="https://geonline.it/wp-content/uploads/2024/11/Circolare-1.pdf">Circolare</a></h2>
LOCATION:
END:VEVENT
END:VCALENDAR
