BEGIN:VCALENDAR
VERSION:2.0
PRODID:-//Geonline
CALSCALE:GREGORIAN
METHOD:PUBLISH
X-WR-CALNAME:Geonline
X-ORIGINAL-URL:https://geonline.it/prodotto/modulo-2-la-sicurezza-antincendio-nei-cantieri-e-nelle-attivita-valutazione-dei-rischi-e-procedure-con-accenni-sugli-impianti-fotovoltaici-e-sulla-ricarica-dei-mezzi-elettrici/
X-WR-CALDESC:Modulo 2 &#8211; La sicurezza antincendio nei cantieri e nelle attività &#8211; valutazione  dei rischi e procedure, con accenni sugli impianti fotovoltaici e sulla ricarica dei mezzi elettrici
BEGIN:VEVENT
DTSTART:20250321T140000
DTEND:20250321T180000
SUMMARY:Modulo 2 &#8211; La sicurezza antincendio nei cantieri e nelle attività &#8211; valutazione  dei rischi e procedure, con accenni sugli impianti fotovoltaici e sulla ricarica dei mezzi elettrici
DESCRIPTION:CORSO AGGIORNAMENTO COORDINATORI PER LA SICUREZZA NEI CANTIERI TEMPORANEI E MOBILI CSP-CSE

<strong>Modalità PRESENZA presso la Sede del Collegio - Viale Ancona 43 Venezia</strong>
<h2><a href="https://geonline.it/wp-content/uploads/2025/02/Programma-40-Ore-Sicurezza_2025.pdf">Programma 40 Ore Sicurezza_2025</a></h2>
&nbsp;
LOCATION:Collegio dei Geometri e dei Geometri Laureati della Provincia di Venezia, Viale Ancona, Venice, Metropolitan City of Venice, Italy
END:VEVENT
END:VCALENDAR
