BEGIN:VCALENDAR
VERSION:2.0
PRODID:-//Geonline
CALSCALE:GREGORIAN
METHOD:PUBLISH
X-WR-CALNAME:Geonline
X-ORIGINAL-URL:https://geonline.it/prodotto/malte-e-finiture-storiche-chioggia/
X-WR-CALDESC:Malte e finiture storiche &#8211; CHIOGGIA
BEGIN:VEVENT
DTSTART:20260529T090000
DTEND:20260529T130000
SUMMARY:Malte e finiture storiche &#8211; CHIOGGIA
DESCRIPTION:EVENTO IN PRESENZA A CHIOGGIA-SOTTOMARINA PRESSO L'HOTEL "LE TEGNUE" Lungomare Adriatico n. 48 Chioggia
<h2><a href="https://geonline.it/wp-content/uploads/2026/04/Locandina-3.pdf">Locandina</a></h2>
<h2><a href="https://geonline.it/wp-content/uploads/2026/04/Circolare-3.pdf">Circolare</a></h2>
LOCATION:Hotel le Tegnùe, Lungomare Adriatico, Chioggia, VE, Italia
END:VEVENT
END:VCALENDAR
