BEGIN:VCALENDAR
VERSION:2.0
PRODID:-//Geonline
CALSCALE:GREGORIAN
METHOD:PUBLISH
X-WR-CALNAME:Geonline
X-ORIGINAL-URL:https://geonline.it/prodotto/malte-e-finiture-storiche-san-stino-di-livenza/
X-WR-CALDESC:Malte e finiture storiche &#8211; SAN STINO DI LIVENZA
BEGIN:VEVENT
DTSTART:20260612T090000
DTEND:20260612T130000
SUMMARY:Malte e finiture storiche &#8211; SAN STINO DI LIVENZA
DESCRIPTION:EVENTO IN PRESENZA A SAN STINO DI LIVENZA presso il COMUNE - SALA CONSILIARE in Piazza Aldo Moro n. 1
<h2><a href="https://geonline.it/wp-content/uploads/2026/04/Locandina-3.pdf">Locandina</a></h2>
<h2><a href="https://geonline.it/wp-content/uploads/2026/04/Circolare-3.pdf">Circolare</a></h2>
LOCATION:Comune di San Stino di Livenza, Piazza Aldo Moro, 1, San Stino di Livenza, VE, Italia
END:VEVENT
END:VCALENDAR
