BEGIN:VCALENDAR
VERSION:2.0
PRODID:-//Geonline
CALSCALE:GREGORIAN
METHOD:PUBLISH
X-WR-CALNAME:Geonline
X-ORIGINAL-URL:https://geonline.it/prodotto/malte-e-finiture-storiche-zelarino/
X-WR-CALDESC:Malte e finiture storiche &#8211; ZELARINO
BEGIN:VEVENT
DTSTART:20260619T090000
DTEND:20260619T130000
SUMMARY:Malte e finiture storiche &#8211; ZELARINO
DESCRIPTION:EVENTO IN PRESENZA ZELARINO presso il CENTRO CARDINAL URBANI in Via Visinoni 4/C
<h2><a href="https://geonline.it/wp-content/uploads/2026/04/Locandina-3.pdf">Locandina</a></h2>
<h2><a href="https://geonline.it/wp-content/uploads/2026/04/Circolare-3.pdf">Circolare</a></h2>
LOCATION:Centro Pastorale "Cardinale G. Urbani", Via Visinoni, Venezia, VE, Italia
END:VEVENT
END:VCALENDAR
