BEGIN:VCALENDAR
VERSION:2.0
PRODID:-//Geonline
CALSCALE:GREGORIAN
METHOD:PUBLISH
X-WR-CALNAME:Geonline
X-ORIGINAL-URL:https://geonline.it/prodotto/corso-di-abilitazione-tecnica-agli-esami-di-abilitazione-di-geometra-lezione-7/
X-WR-CALDESC:Corso di Abilitazione Tecnica agli Esami di Abilitazione di Geometra &#8211; Lezione 7
BEGIN:VEVENT
DTSTART:20210722T090000
DTEND:20210722T130000
SUMMARY:Corso di Abilitazione Tecnica agli Esami di Abilitazione di Geometra &#8211; Lezione 7
DESCRIPTION:<strong>Programma</strong>

COSTRUZIONI

Formule di dimensionamento di massima e caratteristiche di sollecitazione, cenni sulla sismicità.

CATASTO

Adempimenti catastali e principali operazioni terreni e fabbricati.

&nbsp;

&nbsp;
LOCATION:
END:VEVENT
END:VCALENDAR
